BEGIN:VCALENDAR
VERSION:2.0
PRODID:-//CherryBomb - ECPv6.15.20//NONSGML v1.0//EN
CALSCALE:GREGORIAN
METHOD:PUBLISH
X-ORIGINAL-URL:https://cherrybombrox.com
X-WR-CALDESC:Events for CherryBomb
REFRESH-INTERVAL;VALUE=DURATION:PT1H
X-Robots-Tag:noindex
X-PUBLISHED-TTL:PT1H
BEGIN:VTIMEZONE
TZID:America/Chicago
BEGIN:DAYLIGHT
TZOFFSETFROM:-0600
TZOFFSETTO:-0500
TZNAME:CDT
DTSTART:20240310T080000
END:DAYLIGHT
BEGIN:STANDARD
TZOFFSETFROM:-0500
TZOFFSETTO:-0600
TZNAME:CST
DTSTART:20241103T070000
END:STANDARD
BEGIN:DAYLIGHT
TZOFFSETFROM:-0600
TZOFFSETTO:-0500
TZNAME:CDT
DTSTART:20250309T080000
END:DAYLIGHT
BEGIN:STANDARD
TZOFFSETFROM:-0500
TZOFFSETTO:-0600
TZNAME:CST
DTSTART:20251102T070000
END:STANDARD
BEGIN:DAYLIGHT
TZOFFSETFROM:-0600
TZOFFSETTO:-0500
TZNAME:CDT
DTSTART:20260308T080000
END:DAYLIGHT
BEGIN:STANDARD
TZOFFSETFROM:-0500
TZOFFSETTO:-0600
TZNAME:CST
DTSTART:20261101T070000
END:STANDARD
END:VTIMEZONE
BEGIN:VEVENT
DTSTART;TZID=America/Chicago:20250530T200000
DTEND;TZID=America/Chicago:20250530T233000
DTSTAMP:20260420T150527
CREATED:20250429T182557Z
LAST-MODIFIED:20250429T182557Z
UID:10000033-1748635200-1748647800@cherrybombrox.com
SUMMARY:PASSWORD RESET will rock Bamboo Willie's on the Pensacola Boardwalk Friday May 30th 8 p.m. FREE all ages concert
DESCRIPTION:FREE concert on the beach!  Don’t miss it!  Catch the national concert band PASSWORD RESET live!!!  PASSWORD RESET will rock Bamboo Willie’s on the Pensacola Boardwalk Friday May 30th 8 p.m. FREE all ages concert
URL:https://cherrybombrox.com/event/password-reset-will-rock-bamboo-willies-on-the-pensacola-boardwalk-friday-may-30th-8-p-m-free-all-ages-concert/
LOCATION:Bamboo Willie’s\, 400 Quietwater Beach Rd\, Pensacola Beach\, FL\, 32561\, United States
CATEGORIES:Password Reset
ATTACH;FMTTYPE=image/png:https://cherrybombrox.com/wp-content/uploads/2025/01/Bamboo-Willies-Logo-New-1.png
ORGANIZER;CN="Crystal Sound Stage Productions":MAILTO:failaf@hotmail.com
END:VEVENT
END:VCALENDAR