BEGIN:VCALENDAR
VERSION:2.0
PRODID:-//CherryBomb - ECPv6.15.20//NONSGML v1.0//EN
CALSCALE:GREGORIAN
METHOD:PUBLISH
X-ORIGINAL-URL:https://cherrybombrox.com
X-WR-CALDESC:Events for CherryBomb
REFRESH-INTERVAL;VALUE=DURATION:PT1H
X-Robots-Tag:noindex
X-PUBLISHED-TTL:PT1H
BEGIN:VTIMEZONE
TZID:America/Chicago
BEGIN:DAYLIGHT
TZOFFSETFROM:-0600
TZOFFSETTO:-0500
TZNAME:CDT
DTSTART:20240310T080000
END:DAYLIGHT
BEGIN:STANDARD
TZOFFSETFROM:-0500
TZOFFSETTO:-0600
TZNAME:CST
DTSTART:20241103T070000
END:STANDARD
BEGIN:DAYLIGHT
TZOFFSETFROM:-0600
TZOFFSETTO:-0500
TZNAME:CDT
DTSTART:20250309T080000
END:DAYLIGHT
BEGIN:STANDARD
TZOFFSETFROM:-0500
TZOFFSETTO:-0600
TZNAME:CST
DTSTART:20251102T070000
END:STANDARD
BEGIN:DAYLIGHT
TZOFFSETFROM:-0600
TZOFFSETTO:-0500
TZNAME:CDT
DTSTART:20260308T080000
END:DAYLIGHT
BEGIN:STANDARD
TZOFFSETFROM:-0500
TZOFFSETTO:-0600
TZNAME:CST
DTSTART:20261101T070000
END:STANDARD
END:VTIMEZONE
BEGIN:VEVENT
DTSTART;TZID=America/Chicago:20250725T190000
DTEND;TZID=America/Chicago:20250725T230000
DTSTAMP:20260420T133512
CREATED:20250210T150857Z
LAST-MODIFIED:20250310T185946Z
UID:10000031-1753470000-1753484400@cherrybombrox.com
SUMMARY:PASSWORD RESET/Pretty Tied Up Guns and Roses tribute will rock Club LA in Destin FL July 25th
DESCRIPTION:This concert will be KILLER!  The last time these two bands got together CLUB LA was off the hook!  Don’t miss it!  Get tickets here: https://www.rockdestin.com/ Pretty Tied Up will be rocking the entire Appetite for Destruction album with the bass player from Enuff Z’Nuff!  YEAH!!  See you there!!!  Doors open at 7 p.m. CST
URL:https://cherrybombrox.com/event/password-reset-pretty-tied-up-guns-and-roses-tribute-will-rock-club-la-in-destin-fl-july-25th/
LOCATION:Club LA\, 34876 Emerald Coast Pkwy\, Destin\, FL\, 32541\, United States
CATEGORIES:Password Reset,Woman of Rock
ATTACH;FMTTYPE=image/png:https://cherrybombrox.com/wp-content/uploads/2024/02/clubla-header-cropped-1.png
END:VEVENT
END:VCALENDAR