BEGIN:VCALENDAR
VERSION:2.0
PRODID:-//CherryBomb - ECPv6.15.20//NONSGML v1.0//EN
CALSCALE:GREGORIAN
METHOD:PUBLISH
X-ORIGINAL-URL:https://cherrybombrox.com
X-WR-CALDESC:Events for CherryBomb
REFRESH-INTERVAL;VALUE=DURATION:PT1H
X-Robots-Tag:noindex
X-PUBLISHED-TTL:PT1H
BEGIN:VTIMEZONE
TZID:America/Indiana/Indianapolis
BEGIN:DAYLIGHT
TZOFFSETFROM:-0500
TZOFFSETTO:-0400
TZNAME:EDT
DTSTART:20230312T070000
END:DAYLIGHT
BEGIN:STANDARD
TZOFFSETFROM:-0400
TZOFFSETTO:-0500
TZNAME:EST
DTSTART:20231105T060000
END:STANDARD
BEGIN:DAYLIGHT
TZOFFSETFROM:-0500
TZOFFSETTO:-0400
TZNAME:EDT
DTSTART:20240310T070000
END:DAYLIGHT
BEGIN:STANDARD
TZOFFSETFROM:-0400
TZOFFSETTO:-0500
TZNAME:EST
DTSTART:20241103T060000
END:STANDARD
BEGIN:DAYLIGHT
TZOFFSETFROM:-0500
TZOFFSETTO:-0400
TZNAME:EDT
DTSTART:20250309T070000
END:DAYLIGHT
BEGIN:STANDARD
TZOFFSETFROM:-0400
TZOFFSETTO:-0500
TZNAME:EST
DTSTART:20251102T060000
END:STANDARD
END:VTIMEZONE
BEGIN:VEVENT
DTSTART;TZID=America/Indiana/Indianapolis:20241017T190000
DTEND;TZID=America/Indiana/Indianapolis:20241017T230000
DTSTAMP:20260421T063522
CREATED:20240707T202548Z
LAST-MODIFIED:20240707T203644Z
UID:10000019-1729191600-1729206000@cherrybombrox.com
SUMMARY:PASSWORD RESET and Blink 182 Tribute will ROCK Club LA in Destin FL Thurs Oct 17th 7 p.m.
DESCRIPTION:Catch National Concert band\, PASSWORD RESET\, live as they kick off this killer Concert with a Blink 182 tribute band!
URL:https://cherrybombrox.com/event/password-reset-and-blink-182-tribute-will-rock-club-la-in-destin-fl-thurs-oct-17th-7-p-m/
LOCATION:Club LA\, 34876 Emerald Coast Pkwy\, Destin\, FL\, 32541\, United States
CATEGORIES:Password Reset
ATTACH;FMTTYPE=image/png:https://cherrybombrox.com/wp-content/uploads/2024/02/clubla-header-cropped-1.png
ORGANIZER;CN="Crystal Sound Stage Productions":MAILTO:failaf@hotmail.com
END:VEVENT
BEGIN:VEVENT
DTSTART;VALUE=DATE:20241019
DTEND;VALUE=DATE:20241020
DTSTAMP:20260421T063522
CREATED:20240216T015012Z
LAST-MODIFIED:20240216T034108Z
UID:10000005-1729296000-1729382399@cherrybombrox.com
SUMMARY:CherryBomb & Password Reset - Private Concert Event
DESCRIPTION:CherryBomb and Password Reset performing at a private wedding – invitation-only
URL:https://cherrybombrox.com/event/cherrybomb-private-concert-event/
LOCATION:Club LA\, 34876 Emerald Coast Pkwy\, Destin\, FL\, 32541\, United States
CATEGORIES:CherryBomb,Password Reset
ATTACH;FMTTYPE=image/jpeg:https://cherrybombrox.com/wp-content/uploads/2024/02/360_F_432457244_hwi2V88DLgbuu1okmGscCB1vN1qBGPko.jpg
ORGANIZER;CN="Classic Kingdom Entertainment":MAILTO:classickingdombookings@gmail.com
END:VEVENT
BEGIN:VEVENT
DTSTART;TZID=America/Indiana/Indianapolis:20241025T190000
DTEND;TZID=America/Indiana/Indianapolis:20241025T230000
DTSTAMP:20260421T063522
CREATED:20240216T035059Z
LAST-MODIFIED:20240520T163642Z
UID:10000011-1729882800-1729897200@cherrybombrox.com
SUMMARY:Password Reset will rock the Thunder Beach Bike Rally at the Bike Rack!!
DESCRIPTION:PASSWORD RESET will rock the Thunder Beach Bike Rally on Panama City Beach at the Bike Rack!!
URL:https://cherrybombrox.com/event/password-reset-thunder-beach-bike-rally/
LOCATION:The Bike RacK PCB\, 12000 Front Beach Rd\, Panama City Beach\, 32407-3413\, United States
CATEGORIES:Password Reset
ATTACH;FMTTYPE=image/png:https://cherrybombrox.com/wp-content/uploads/2024/02/logo-skull-progressive.png
END:VEVENT
END:VCALENDAR