BEGIN:VCALENDAR
VERSION:2.0
PRODID:-//CherryBomb - ECPv6.15.20//NONSGML v1.0//EN
CALSCALE:GREGORIAN
METHOD:PUBLISH
X-ORIGINAL-URL:https://cherrybombrox.com
X-WR-CALDESC:Events for CherryBomb
REFRESH-INTERVAL;VALUE=DURATION:PT1H
X-Robots-Tag:noindex
X-PUBLISHED-TTL:PT1H
BEGIN:VTIMEZONE
TZID:America/Indiana/Indianapolis
BEGIN:DAYLIGHT
TZOFFSETFROM:-0500
TZOFFSETTO:-0400
TZNAME:EDT
DTSTART:20240310T070000
END:DAYLIGHT
BEGIN:STANDARD
TZOFFSETFROM:-0400
TZOFFSETTO:-0500
TZNAME:EST
DTSTART:20241103T060000
END:STANDARD
BEGIN:DAYLIGHT
TZOFFSETFROM:-0500
TZOFFSETTO:-0400
TZNAME:EDT
DTSTART:20250309T070000
END:DAYLIGHT
BEGIN:STANDARD
TZOFFSETFROM:-0400
TZOFFSETTO:-0500
TZNAME:EST
DTSTART:20251102T060000
END:STANDARD
BEGIN:DAYLIGHT
TZOFFSETFROM:-0500
TZOFFSETTO:-0400
TZNAME:EDT
DTSTART:20260308T070000
END:DAYLIGHT
BEGIN:STANDARD
TZOFFSETFROM:-0400
TZOFFSETTO:-0500
TZNAME:EST
DTSTART:20261101T060000
END:STANDARD
END:VTIMEZONE
BEGIN:VEVENT
DTSTART;TZID=America/Indiana/Indianapolis:20250516T200000
DTEND;TZID=America/Indiana/Indianapolis:20250516T210000
DTSTAMP:20260420T192945
CREATED:20241028T225636Z
LAST-MODIFIED:20250310T190119Z
UID:10000025-1747425600-1747429200@cherrybombrox.com
SUMMARY:Password Reset will rock Juana's Pagodas and Sailors Grill on Navarre Beach-FREE ALL AGES CONCERT
DESCRIPTION:Password Reset will ROCK Juana’s & Sailor’s Grill Beach BASH \nNavarre’s oldest family owned & operated restaurant & bar \nGreat food\, drinks and fun SINCE 1989
URL:https://cherrybombrox.com/event/cherrybomb-password-reset-cinco-de-mayo-at-juanas/
LOCATION:Juana’s Pagodas\, 1451 Navarre Beach Causeway\, Navarre\, FL\, 32566\, United States
CATEGORIES:CherryBomb,Password Reset
ATTACH;FMTTYPE=image/png:https://cherrybombrox.com/wp-content/uploads/2024/02/Juanas-art.png
END:VEVENT
END:VCALENDAR