BEGIN:VCALENDAR
VERSION:2.0
PRODID:-//CherryBomb - ECPv6.15.20//NONSGML v1.0//EN
CALSCALE:GREGORIAN
METHOD:PUBLISH
X-ORIGINAL-URL:https://cherrybombrox.com
X-WR-CALDESC:Events for CherryBomb
REFRESH-INTERVAL;VALUE=DURATION:PT1H
X-Robots-Tag:noindex
X-PUBLISHED-TTL:PT1H
BEGIN:VTIMEZONE
TZID:America/Indiana/Indianapolis
BEGIN:DAYLIGHT
TZOFFSETFROM:-0500
TZOFFSETTO:-0400
TZNAME:EDT
DTSTART:20240310T070000
END:DAYLIGHT
BEGIN:STANDARD
TZOFFSETFROM:-0400
TZOFFSETTO:-0500
TZNAME:EST
DTSTART:20241103T060000
END:STANDARD
BEGIN:DAYLIGHT
TZOFFSETFROM:-0500
TZOFFSETTO:-0400
TZNAME:EDT
DTSTART:20250309T070000
END:DAYLIGHT
BEGIN:STANDARD
TZOFFSETFROM:-0400
TZOFFSETTO:-0500
TZNAME:EST
DTSTART:20251102T060000
END:STANDARD
BEGIN:DAYLIGHT
TZOFFSETFROM:-0500
TZOFFSETTO:-0400
TZNAME:EDT
DTSTART:20260308T070000
END:DAYLIGHT
BEGIN:STANDARD
TZOFFSETFROM:-0400
TZOFFSETTO:-0500
TZNAME:EST
DTSTART:20261101T060000
END:STANDARD
BEGIN:DAYLIGHT
TZOFFSETFROM:-0500
TZOFFSETTO:-0400
TZNAME:EDT
DTSTART:20270314T070000
END:DAYLIGHT
BEGIN:STANDARD
TZOFFSETFROM:-0400
TZOFFSETTO:-0500
TZNAME:EST
DTSTART:20271107T060000
END:STANDARD
END:VTIMEZONE
BEGIN:VTIMEZONE
TZID:America/Chicago
BEGIN:DAYLIGHT
TZOFFSETFROM:-0600
TZOFFSETTO:-0500
TZNAME:CDT
DTSTART:20240310T080000
END:DAYLIGHT
BEGIN:STANDARD
TZOFFSETFROM:-0500
TZOFFSETTO:-0600
TZNAME:CST
DTSTART:20241103T070000
END:STANDARD
BEGIN:DAYLIGHT
TZOFFSETFROM:-0600
TZOFFSETTO:-0500
TZNAME:CDT
DTSTART:20250309T080000
END:DAYLIGHT
BEGIN:STANDARD
TZOFFSETFROM:-0500
TZOFFSETTO:-0600
TZNAME:CST
DTSTART:20251102T070000
END:STANDARD
BEGIN:DAYLIGHT
TZOFFSETFROM:-0600
TZOFFSETTO:-0500
TZNAME:CDT
DTSTART:20260308T080000
END:DAYLIGHT
BEGIN:STANDARD
TZOFFSETFROM:-0500
TZOFFSETTO:-0600
TZNAME:CST
DTSTART:20261101T070000
END:STANDARD
BEGIN:DAYLIGHT
TZOFFSETFROM:-0600
TZOFFSETTO:-0500
TZNAME:CDT
DTSTART:20270314T080000
END:DAYLIGHT
BEGIN:STANDARD
TZOFFSETFROM:-0500
TZOFFSETTO:-0600
TZNAME:CST
DTSTART:20271107T070000
END:STANDARD
END:VTIMEZONE
BEGIN:VEVENT
DTSTART;TZID=America/Indiana/Indianapolis:20250815T200000
DTEND;TZID=America/Indiana/Indianapolis:20250815T235000
DTSTAMP:20260420T214547
CREATED:20241028T225537Z
LAST-MODIFIED:20250529T174626Z
UID:10000024-1755288000-1755301800@cherrybombrox.com
SUMMARY:Password Reset will rock Juana's Pagodas & Sailors Grill on Navarre Beach ALL AGES\, FREE Concert
DESCRIPTION:PASSWORD RESET will rock Juana’s Beach BASH!  Do not miss this amazing FREE ALL AGES concert on the beach!
URL:https://cherrybombrox.com/event/cherrybomb-password-reset-will-rock-juanas-pagodas-and-sailors-grill-on-labor-day-weekend-on-navarre-beach/
LOCATION:Juana’s Pagodas\, 1451 Navarre Beach Causeway\, Navarre\, FL\, 32566\, United States
CATEGORIES:CherryBomb,Password Reset
ATTACH;FMTTYPE=image/png:https://cherrybombrox.com/wp-content/uploads/2024/02/Juanas-art.png
END:VEVENT
BEGIN:VEVENT
DTSTART;TZID=America/Indiana/Indianapolis:20250830T170000
DTEND;TZID=America/Indiana/Indianapolis:20250830T190000
DTSTAMP:20260420T214547
CREATED:20250210T152357Z
LAST-MODIFIED:20250210T153802Z
UID:10000032-1756573200-1756580400@cherrybombrox.com
SUMMARY:PASSWORD RESET "unplugged" will rock w/ Joan Jett and Billy Idol Aug 30 at Ruoff Music Center
DESCRIPTION:Catch Roxie Rox (https://www.facebook.com/roxie.rox.5) on vocals and Ritchie Wilkison on guitar in the VIP Lounge at Ruoff Music Center in Indianapolis IN Aug 30th.  We will be rocking music from Cheap Trick\, Dio\, Ozzy\, the Fixx\, Styx\, and more!!  Get tickets here: https://www.ruoffmusiccenter.net/?utm_source=GMBlisting&utm_medium=organic
URL:https://cherrybombrox.com/event/password-reset-unplugged-will-rock-w-joan-jett-and-billy-idol-aug-30-at-ruoff-music-center/
LOCATION:Ruoff Music Center\, 12880 E. 146th St.\, Noblesville\, IN\, 46060\, United States
CATEGORIES:Password Reset
ATTACH;FMTTYPE=image/jpeg:https://cherrybombrox.com/wp-content/uploads/2025/02/ruoff-logo.jpg
END:VEVENT
BEGIN:VEVENT
DTSTART;TZID=America/Chicago:20250914T150000
DTEND;TZID=America/Chicago:20250914T163000
DTSTAMP:20260420T214547
CREATED:20250908T213400Z
LAST-MODIFIED:20250908T213821Z
UID:10000036-1757862000-1757867400@cherrybombrox.com
SUMMARY:Catch the nation's premiere Joan Jett tribute\, CHERRYBOMB & Foreigner at Juana's on Navarre Beach Sun. Sept 14th 3 p.m. ALL AGES
DESCRIPTION:See you rocks on Sunday September 14th 3 p.m. at Juana’s on Navarre Beach at 3 p.m. CST. ALL AGES welcome\nCHERRYBOMB LIVE with Departure Journey Tribute\, and Foreigner!!\nMike Morobitto Drums\nMatt McKinney Guitar\nTravis Shields Bass
URL:https://cherrybombrox.com/event/catch-the-nations-premiere-joan-jett-tribute-cherrybomb-at-juanas-on-navarre-beach-sun-sept-14th-3-p-m-all-ages/
LOCATION:Juana’s Pagodas\, 1451 Navarre Beach Causeway\, Navarre\, FL\, 32566\, United States
ATTACH;FMTTYPE=image/jpeg:https://cherrybombrox.com/wp-content/uploads/2025/09/Lou.jpg
END:VEVENT
BEGIN:VEVENT
DTSTART;TZID=America/Indiana/Indianapolis:20250914T150000
DTEND;TZID=America/Indiana/Indianapolis:20250914T170000
DTSTAMP:20260420T214547
CREATED:20250818T222436Z
LAST-MODIFIED:20250908T214226Z
UID:10000035-1757862000-1757869200@cherrybombrox.com
SUMMARY:Password Reset band members as CHERRYBOMB will rock with Foreigner Sept 14th at Juana's on Navarre Beach 3 p.m. CST ALL AGES!
DESCRIPTION:SAVE THE DATE September 14th\, CHERRYBOMB\, Departure Journey Tribute\, and Lou Graham from Foreigner will ROCK Navarre Beach September 14th!! This will be the most kick ass rocking beach rock concert of the Summer ! Don’t miss it! Tickets FOREIGNER\, The original voice Lou Gramm Tickets\, Sun\, Sep 14\, 2025 at 5:00 PM | Eventbrite https://share.google/vQvx4dYDelJJiCFQ5
URL:https://cherrybombrox.com/event/password-reset-will-rock-with-foreigner-sept-14th-at-juanas-on-navarre-beach-3-p-m/
LOCATION:Juana’s Pagodas\, 1451 Navarre Beach Causeway\, Navarre\, FL\, 32566\, United States
CATEGORIES:Password Reset
ATTACH;FMTTYPE=image/png:https://cherrybombrox.com/wp-content/uploads/2024/02/Juanas-art.png
END:VEVENT
BEGIN:VEVENT
DTSTART;TZID=America/Indiana/Indianapolis:20251107T200000
DTEND;TZID=America/Indiana/Indianapolis:20251107T230000
DTSTAMP:20260420T214547
CREATED:20250916T210829Z
LAST-MODIFIED:20250916T210829Z
UID:10000037-1762545600-1762556400@cherrybombrox.com
SUMMARY:National Concert Band PASSWORD RESET and Thunderstruck ACDC tribute will ROCK Club LA in Destin FL Friday Nov 7th
DESCRIPTION:National Concert Band PASSWORD RESET and Thunderstruck ACDC tribute will ROCK Club LA in Destin FL Friday Nov 7th 8 p.m. CST! \nTickets go fast for this concert.  Please grab your table tickets early!!
URL:https://cherrybombrox.com/event/national-concert-band-password-reset-and-thunderstruck-acdc-tribute-will-rock-club-la-in-destin-fl-friday-nov-7th/
LOCATION:Club LA\, 34876 Emerald Coast Pkwy\, Destin\, FL\, 32541\, United States
CATEGORIES:Password Reset
END:VEVENT
BEGIN:VEVENT
DTSTART;TZID=America/Chicago:20260109T200000
DTEND;TZID=America/Chicago:20260109T230000
DTSTAMP:20260420T214547
CREATED:20251111T213516Z
LAST-MODIFIED:20251111T213535Z
UID:10000038-1767988800-1767999600@cherrybombrox.com
SUMMARY:Catch PASSWORD RESET live at Club LA Fri Jan 9 with Scorpions tribute-Big City Nights
DESCRIPTION:Catch Password Reset live with Big City Nights Scorpions Tribute Band! The concert kicks off at 8 p.m. CST.  This will be a huge night of rock with Music from the Scorpions!  OH MY!  This concert will KICK ASS!
URL:https://cherrybombrox.com/event/catch-password-reset-live-at-club-la-fri-jan-9-with-scorpions-tribute/
LOCATION:Club LA\, 34876 Emerald Coast Pkwy\, Destin\, FL\, 32541\, United States
CATEGORIES:Password Reset
ATTACH;FMTTYPE=image/png:https://cherrybombrox.com/wp-content/uploads/2024/02/clubla-header-cropped-1.png
ORGANIZER;CN="Crystal Sound Stage Productions":MAILTO:failaf@hotmail.com
END:VEVENT
BEGIN:VEVENT
DTSTART;TZID=America/Chicago:20260207T200000
DTEND;TZID=America/Chicago:20260207T230000
DTSTAMP:20260420T214547
CREATED:20251111T214047Z
LAST-MODIFIED:20251111T214047Z
UID:10000039-1770494400-1770505200@cherrybombrox.com
SUMMARY:Catch PASSWORD RESET live with Pretty Tied Up-Guns n Roses Tribute Feb 7th\, 8 p.m.
DESCRIPTION:WOW!  This concert will rock with the high energy ROCK from Password Reset and then right into Guns n Roses tunes!  KILLER!  The tickets will go fast\, please get them early.
URL:https://cherrybombrox.com/event/catch-password-reset-live-with-pretty-tied-up-guns-n-roses-tribute-feb-7th-8-p-m/
LOCATION:Club LA\, 34876 Emerald Coast Pkwy\, Destin\, FL\, 32541\, United States
CATEGORIES:Password Reset
ATTACH;FMTTYPE=image/png:https://cherrybombrox.com/wp-content/uploads/2024/02/clubla-header-cropped-1.png
ORGANIZER;CN="Crystal Sound Stage Productions":MAILTO:failaf@hotmail.com
END:VEVENT
BEGIN:VEVENT
DTSTART;TZID=America/Chicago:20260307T200000
DTEND;TZID=America/Chicago:20260307T230000
DTSTAMP:20260420T214547
CREATED:20251111T214925Z
LAST-MODIFIED:20251111T214925Z
UID:10000040-1772913600-1772924400@cherrybombrox.com
SUMMARY:Catch PASSWORD RESET with Pandora's Box an Aerosmith tribute Sat March 7th
DESCRIPTION:Catch PASSWORD RESET with Pandora’s Box an Aerosmith tribute Sat March 7th.  What killer bands!  This rock concert will be off the hook!
URL:https://cherrybombrox.com/event/catch-password-reset-with-pandoras-box-an-aerosmith-tribute-sat-march-7th/
CATEGORIES:Password Reset
ATTACH;FMTTYPE=image/png:https://cherrybombrox.com/wp-content/uploads/2024/02/clubla-header-cropped-1.png
ORGANIZER;CN="Crystal Sound Stage Productions":MAILTO:failaf@hotmail.com
END:VEVENT
BEGIN:VEVENT
DTSTART;TZID=America/Indiana/Indianapolis:20260328T153000
DTEND;TZID=America/Indiana/Indianapolis:20260328T163000
DTSTAMP:20260420T214547
CREATED:20260227T034018Z
LAST-MODIFIED:20260227T034429Z
UID:10000043-1774711800-1774715400@cherrybombrox.com
SUMMARY:PASSWORD RESET live at the Sand Shaker on Pensacola Beach 3:30 pm CST Saturday March 28th
DESCRIPTION:
URL:https://cherrybombrox.com/event/password-reset-live-at-the-sand-shaker-on-pensacola-beach-330-pm-cst-saturday-march-28th/
CATEGORIES:Password Reset
ATTACH;FMTTYPE=image/jpeg:https://cherrybombrox.com/wp-content/uploads/2026/02/FB_IMG_1772163269498.jpg
ORGANIZER;CN="Crystal Sound Stage Productions":MAILTO:failaf@hotmail.com
END:VEVENT
BEGIN:VEVENT
DTSTART;TZID=America/Chicago:20260417T153000
DTEND;TZID=America/Chicago:20260417T173000
DTSTAMP:20260420T214547
CREATED:20251111T215437Z
LAST-MODIFIED:20251111T215437Z
UID:10000041-1776439800-1776447000@cherrybombrox.com
SUMMARY:ROXIE\, from PASSWORD RESET/CherryBomb at Bamboo's Crawfish Festival Pensacola Beach Apr 17th 3:30 CDT-Unplugged
DESCRIPTION:ROXIE\, Singer for PASSWORD RESET at Bamboo’s Crawfish Festival Pensacola Beach Apr 17th 3:30 CDT UNPLUGGED acoustic show with Kenny Porter on Guitar.  FREE All Ages event
URL:https://cherrybombrox.com/event/roxie-from-password-reset-cherrybomb-at-bamboos-crawfish-festival-pensacola-beach-apr-17th-330-cdt-unplugged/
LOCATION:Bamboo Willie’s\, 400 Quietwater Beach Rd\, Pensacola Beach\, FL\, 32561\, United States
CATEGORIES:CherryBomb,Password Reset
ATTACH;FMTTYPE=image/png:https://cherrybombrox.com/wp-content/uploads/2025/01/Bamboo-Willies-Logo-New-1.png
ORGANIZER;CN="Crystal Sound Stage Productions":MAILTO:failaf@hotmail.com
END:VEVENT
BEGIN:VEVENT
DTSTART;TZID=America/Indiana/Indianapolis:20260419T150000
DTEND;TZID=America/Indiana/Indianapolis:20260419T170000
DTSTAMP:20260420T214547
CREATED:20260329T163123Z
LAST-MODIFIED:20260330T024724Z
UID:10000046-1776610800-1776618000@cherrybombrox.com
SUMMARY:CherryBomb live at Juana's Pagodas on Navarre Beach Sunday April 19th 3 to 5 p.m. CDT with Bon Jovi and Queen tributes
DESCRIPTION:Joan Jett\, Bon Jovi\, and Queen in the greatest 80’s beach bash of 2026!  Don’t miss it!  Get tickets here:  Absolute Bon Jovi & Absolute Queen on Navarre Beach Tickets\, Sunday\, Apr 19 from 5 pm to 9 pm | Eventbrite \nCherryBomb\, the nation’s premiere Joan Jett tribute\, live at Juana’s Pagodas on Navarre Beach Sunday April 19th 3 to 5 p.m. CDT with Bon Jovi and Queen tributes
URL:https://cherrybombrox.com/event/cherrybomb-live-at-juanas-pagodas-on-navarre-beach-sunday-april-19th-3-to-5-p-m-cdt-with-bon-jovi-and-queen-tributes/
LOCATION:Juana’s Pagodas\, 1451 Navarre Beach Causeway\, Navarre\, FL\, 32566\, United States
CATEGORIES:CherryBomb
ATTACH;FMTTYPE=image/png:https://cherrybombrox.com/wp-content/uploads/2024/02/Juanas-art.png
END:VEVENT
BEGIN:VEVENT
DTSTART;TZID=America/Chicago:20260516T180000
DTEND;TZID=America/Chicago:20260516T183000
DTSTAMP:20260420T214547
CREATED:20260404T004312Z
LAST-MODIFIED:20260404T004312Z
UID:10000047-1778954400-1778956200@cherrybombrox.com
SUMMARY:Catch CherryBomb LIVE May 16th 6 pm at the Pensacola Pickles and Wings Family Festival
DESCRIPTION:Catch the nation’s premiere Joan Jett tribute live Saturday May 16th at the FREE Pensacola Pickles and Wings Family Festival at 6 pm on the Gazebo stage! \nPensacolaFEST.com \nSeville Square\, 311 E Government St\, Pensacola\, FL 32502
URL:https://cherrybombrox.com/event/catch-cherrybomb-live-may-16th-6-pm-at-the-pensacola-pickles-and-wings-family-festival/
LOCATION:Seville Square\, 311 E Government St\, Pensacola\, 32502\, United States
CATEGORIES:CherryBomb
ORGANIZER;CN="Crystal Sound Stage Productions":MAILTO:failaf@hotmail.com
END:VEVENT
BEGIN:VEVENT
DTSTART;TZID=America/Chicago:20260516T183000
DTEND;TZID=America/Chicago:20260516T190000
DTSTAMP:20260420T214547
CREATED:20260404T004723Z
LAST-MODIFIED:20260404T004723Z
UID:10000048-1778956200-1778958000@cherrybombrox.com
SUMMARY:Catch PASSWORD RESET LIVE May 16th 6:30 pm at the Pensacola Pickles and Wings Family Festival
DESCRIPTION:Catch national concert band PASSWORD RESET live Saturday May 16th at the FREE Pensacola Pickles and Wings Family Festival at 6:30 pm on the Gazebo stage! \nPensacolaFEST.com
URL:https://cherrybombrox.com/event/catch-password-reset-live-may-16th-630-pm-at-the-pensacola-pickles-and-wings-family-festival/
LOCATION:Seville Square\, 311 E Government St\, Pensacola\, 32502\, United States
CATEGORIES:Password Reset
ATTACH;FMTTYPE=image/jpeg:https://cherrybombrox.com/wp-content/uploads/2026/04/Pickl.jpg
END:VEVENT
BEGIN:VEVENT
DTSTART;TZID=America/Indiana/Indianapolis:20260530T080000
DTEND;TZID=America/Indiana/Indianapolis:20260530T170000
DTSTAMP:20260420T214547
CREATED:20251111T215841Z
LAST-MODIFIED:20251111T215841Z
UID:10000042-1780128000-1780160400@cherrybombrox.com
SUMMARY:Catch CherryBomb live Sat May 30 2026 at Club LA in Destin FL 8 p.m. with Heart Tribute Band
DESCRIPTION:Catch CherryBomb live May 30 2026 at Club LA in Destin FL 8 p.m. with Heart Tribute Band called Heart Breaker!!  This show will kick your ass!  Rock out with classic rock from Joan Jett into the super hits of HEART!
URL:https://cherrybombrox.com/event/catch-cherrybomb-live-sat-may-30-2026-at-club-la-in-destin-fl-8-p-m-with-heart-tribute-band/
CATEGORIES:CherryBomb
ATTACH;FMTTYPE=image/png:https://cherrybombrox.com/wp-content/uploads/2024/02/clubla-header-cropped-1.png
ORGANIZER;CN="Crystal Sound Stage Productions":MAILTO:failaf@hotmail.com
END:VEVENT
BEGIN:VEVENT
DTSTART;TZID=America/Chicago:20260711T193000
DTEND;TZID=America/Chicago:20260711T203000
DTSTAMP:20260420T214547
CREATED:20260310T024501Z
LAST-MODIFIED:20260310T024501Z
UID:10000044-1783798200-1783801800@cherrybombrox.com
SUMMARY:PASSWORD RESET live at Club LA Saturday July 11th 7:45 pm CST
DESCRIPTION:We can’t wait to announce this concert!  As soon as the details are released by Club LA we will share the details here.
URL:https://cherrybombrox.com/event/password-reset-live-at-club-la-saturday-july-11th-745-pm-cst/
LOCATION:Club LA\, 34876 Emerald Coast Pkwy\, Destin\, FL\, 32541\, United States
CATEGORIES:Password Reset
ATTACH;FMTTYPE=image/png:https://cherrybombrox.com/wp-content/uploads/2024/02/clubla-header-cropped-1.png
ORGANIZER;CN="Crystal Sound Stage Productions":MAILTO:failaf@hotmail.com
END:VEVENT
BEGIN:VEVENT
DTSTART;TZID=America/Indiana/Indianapolis:20260814T193000
DTEND;TZID=America/Indiana/Indianapolis:20260814T203000
DTSTAMP:20260420T214547
CREATED:20260310T024824Z
LAST-MODIFIED:20260310T024824Z
UID:10000045-1786735800-1786739400@cherrybombrox.com
SUMMARY:PASSWORD RESET live at Club LA Friday August 14th 7:45 pm CST
DESCRIPTION:We can’t wait to announce this concert!  As soon as the details are released by Club LA we will share the details here.
URL:https://cherrybombrox.com/event/password-reset-live-at-club-la-friday-august-14th-745-pm-cst/
CATEGORIES:Password Reset
ATTACH;FMTTYPE=image/png:https://cherrybombrox.com/wp-content/uploads/2024/02/clubla-header-cropped-1.png
END:VEVENT
END:VCALENDAR