BEGIN:VCALENDAR
VERSION:2.0
PRODID:-//CherryBomb - ECPv6.15.20//NONSGML v1.0//EN
CALSCALE:GREGORIAN
METHOD:PUBLISH
X-WR-CALNAME:CherryBomb
X-ORIGINAL-URL:https://cherrybombrox.com
X-WR-CALDESC:Events for CherryBomb
REFRESH-INTERVAL;VALUE=DURATION:PT1H
X-Robots-Tag:noindex
X-PUBLISHED-TTL:PT1H
BEGIN:VTIMEZONE
TZID:America/Indiana/Indianapolis
BEGIN:DAYLIGHT
TZOFFSETFROM:-0500
TZOFFSETTO:-0400
TZNAME:EDT
DTSTART:20240310T070000
END:DAYLIGHT
BEGIN:STANDARD
TZOFFSETFROM:-0400
TZOFFSETTO:-0500
TZNAME:EST
DTSTART:20241103T060000
END:STANDARD
BEGIN:DAYLIGHT
TZOFFSETFROM:-0500
TZOFFSETTO:-0400
TZNAME:EDT
DTSTART:20250309T070000
END:DAYLIGHT
BEGIN:STANDARD
TZOFFSETFROM:-0400
TZOFFSETTO:-0500
TZNAME:EST
DTSTART:20251102T060000
END:STANDARD
BEGIN:DAYLIGHT
TZOFFSETFROM:-0500
TZOFFSETTO:-0400
TZNAME:EDT
DTSTART:20260308T070000
END:DAYLIGHT
BEGIN:STANDARD
TZOFFSETFROM:-0400
TZOFFSETTO:-0500
TZNAME:EST
DTSTART:20261101T060000
END:STANDARD
END:VTIMEZONE
BEGIN:VEVENT
DTSTART;TZID=America/Indiana/Indianapolis:20250117T190000
DTEND;TZID=America/Indiana/Indianapolis:20250117T233000
DTSTAMP:20260420T044403
CREATED:20240820T204722Z
LAST-MODIFIED:20240820T204722Z
UID:10000022-1737140400-1737156600@cherrybombrox.com
SUMMARY:Henry Lee Summer & PASSWORD RESET will rock 8 Seconds Saloon Indianapolis IN Fri Jan 17 2025
DESCRIPTION:Catch PASSWORD RESET live on Friday night Jan 17th 7:30 p.m. at the 8 Seconds Saloon 111 N Lynhurst Dr.\, Indianapolis\, IN 46224!  We will be kicking off this concert for Henry Lee Summer!!  What a great way to rock in 2025! Ticket details coming soon.
URL:https://cherrybombrox.com/event/henry-lee-summer-password-reset-will-rock-8-seconds-saloon-indianapolis-in-fri-jan-17-2025/
LOCATION:8 Seconds Saloon\, 111 N Lynhurst Dr\, Indianapolis\, 46224\, United States
CATEGORIES:Password Reset
ATTACH;FMTTYPE=image/png:https://cherrybombrox.com/wp-content/uploads/2024/08/8Seconds_Header_25th.png
END:VEVENT
END:VCALENDAR