BEGIN:VCALENDAR
VERSION:2.0
PRODID:-//CherryBomb - ECPv6.15.20//NONSGML v1.0//EN
CALSCALE:GREGORIAN
METHOD:PUBLISH
X-ORIGINAL-URL:https://cherrybombrox.com
X-WR-CALDESC:Events for CherryBomb
REFRESH-INTERVAL;VALUE=DURATION:PT1H
X-Robots-Tag:noindex
X-PUBLISHED-TTL:PT1H
BEGIN:VTIMEZONE
TZID:America/Indiana/Indianapolis
BEGIN:DAYLIGHT
TZOFFSETFROM:-0500
TZOFFSETTO:-0400
TZNAME:EDT
DTSTART:20230312T070000
END:DAYLIGHT
BEGIN:STANDARD
TZOFFSETFROM:-0400
TZOFFSETTO:-0500
TZNAME:EST
DTSTART:20231105T060000
END:STANDARD
BEGIN:DAYLIGHT
TZOFFSETFROM:-0500
TZOFFSETTO:-0400
TZNAME:EDT
DTSTART:20240310T070000
END:DAYLIGHT
BEGIN:STANDARD
TZOFFSETFROM:-0400
TZOFFSETTO:-0500
TZNAME:EST
DTSTART:20241103T060000
END:STANDARD
BEGIN:DAYLIGHT
TZOFFSETFROM:-0500
TZOFFSETTO:-0400
TZNAME:EDT
DTSTART:20250309T070000
END:DAYLIGHT
BEGIN:STANDARD
TZOFFSETFROM:-0400
TZOFFSETTO:-0500
TZNAME:EST
DTSTART:20251102T060000
END:STANDARD
END:VTIMEZONE
BEGIN:VEVENT
DTSTART;TZID=America/Indiana/Indianapolis:20240614T180000
DTEND;TZID=America/Indiana/Indianapolis:20240614T210000
DTSTAMP:20260420T060332
CREATED:20240216T013714Z
LAST-MODIFIED:20240520T162853Z
UID:10000003-1718388000-1718398800@cherrybombrox.com
SUMMARY:CherryBomb will headline and Password Reset will kick off this concert - HARD ROCK CAFE Miami FL
DESCRIPTION:CherryBomb will headline HARD ROCK CAFE’s Founders Day B’day BASH with PASSWORD RESET kicking off this concert in Miami Florida.  National Concert Band PASSWORD RESET will rock from 6 to 7:45 p.m. and CherryBomb will rock from 8 to 9 p.m. EST
URL:https://cherrybombrox.com/event/cherrybomb-hard-rock-cafe/
LOCATION:Hard Rock – Miami\, Bayside Marketplace 401 Biscayne Blvd\, Miami\, FL\, 33132\, United States
CATEGORIES:CherryBomb
ATTACH;FMTTYPE=image/png:https://cherrybombrox.com/wp-content/uploads/2024/02/Hard_Rock_Cafe_Logo.svg.png
ORGANIZER;CN="Crystal Sound Stage Productions":MAILTO:failaf@hotmail.com
END:VEVENT
END:VCALENDAR