BEGIN:VCALENDAR
VERSION:2.0
PRODID:-//CherryBomb - ECPv6.15.20//NONSGML v1.0//EN
CALSCALE:GREGORIAN
METHOD:PUBLISH
X-WR-CALNAME:CherryBomb
X-ORIGINAL-URL:https://cherrybombrox.com
X-WR-CALDESC:Events for CherryBomb
REFRESH-INTERVAL;VALUE=DURATION:PT1H
X-Robots-Tag:noindex
X-PUBLISHED-TTL:PT1H
BEGIN:VTIMEZONE
TZID:America/Indiana/Indianapolis
BEGIN:DAYLIGHT
TZOFFSETFROM:-0500
TZOFFSETTO:-0400
TZNAME:EDT
DTSTART:20230312T070000
END:DAYLIGHT
BEGIN:STANDARD
TZOFFSETFROM:-0400
TZOFFSETTO:-0500
TZNAME:EST
DTSTART:20231105T060000
END:STANDARD
BEGIN:DAYLIGHT
TZOFFSETFROM:-0500
TZOFFSETTO:-0400
TZNAME:EDT
DTSTART:20240310T070000
END:DAYLIGHT
BEGIN:STANDARD
TZOFFSETFROM:-0400
TZOFFSETTO:-0500
TZNAME:EST
DTSTART:20241103T060000
END:STANDARD
BEGIN:DAYLIGHT
TZOFFSETFROM:-0500
TZOFFSETTO:-0400
TZNAME:EDT
DTSTART:20250309T070000
END:DAYLIGHT
BEGIN:STANDARD
TZOFFSETFROM:-0400
TZOFFSETTO:-0500
TZNAME:EST
DTSTART:20251102T060000
END:STANDARD
END:VTIMEZONE
BEGIN:VEVENT
DTSTART;TZID=America/Indiana/Indianapolis:20240803T180000
DTEND;TZID=America/Indiana/Indianapolis:20240803T200000
DTSTAMP:20260420T063039
CREATED:20240619T193613Z
LAST-MODIFIED:20240619T193613Z
UID:10000018-1722708000-1722715200@cherrybombrox.com
SUMMARY:PASSWORD RESET will rock the Indiana State Fair Saturday Aug 3rd 6 to 8 p.m.
DESCRIPTION:Catch PASSWORD RESET live in the “Backyard” at the Indiana State Fair Saturday Aug 3rd 6 to 8 p.m.
URL:https://cherrybombrox.com/event/password-reset-will-rock-the-indiana-state-fair-saturday-aug-3rd-6-to-8-p-m/
LOCATION:Indiana State Fair Backyard\, 1202 East 38th Street\, Indianapolis\, IN 46205\, IN\, 46205\, United States
CATEGORIES:Password Reset
ATTACH;FMTTYPE=image/jpeg:https://cherrybombrox.com/wp-content/uploads/2024/06/IN-state.jpg
ORGANIZER;CN="Crystal Sound Stage Productions":MAILTO:failaf@hotmail.com
END:VEVENT
END:VCALENDAR