BEGIN:VCALENDAR
VERSION:2.0
PRODID:-//CherryBomb - ECPv6.15.20//NONSGML v1.0//EN
CALSCALE:GREGORIAN
METHOD:PUBLISH
X-WR-CALNAME:CherryBomb
X-ORIGINAL-URL:https://cherrybombrox.com
X-WR-CALDESC:Events for CherryBomb
REFRESH-INTERVAL;VALUE=DURATION:PT1H
X-Robots-Tag:noindex
X-PUBLISHED-TTL:PT1H
BEGIN:VTIMEZONE
TZID:America/Indiana/Indianapolis
BEGIN:DAYLIGHT
TZOFFSETFROM:-0500
TZOFFSETTO:-0400
TZNAME:EDT
DTSTART:20230312T070000
END:DAYLIGHT
BEGIN:STANDARD
TZOFFSETFROM:-0400
TZOFFSETTO:-0500
TZNAME:EST
DTSTART:20231105T060000
END:STANDARD
BEGIN:DAYLIGHT
TZOFFSETFROM:-0500
TZOFFSETTO:-0400
TZNAME:EDT
DTSTART:20240310T070000
END:DAYLIGHT
BEGIN:STANDARD
TZOFFSETFROM:-0400
TZOFFSETTO:-0500
TZNAME:EST
DTSTART:20241103T060000
END:STANDARD
BEGIN:DAYLIGHT
TZOFFSETFROM:-0500
TZOFFSETTO:-0400
TZNAME:EDT
DTSTART:20250309T070000
END:DAYLIGHT
BEGIN:STANDARD
TZOFFSETFROM:-0400
TZOFFSETTO:-0500
TZNAME:EST
DTSTART:20251102T060000
END:STANDARD
END:VTIMEZONE
BEGIN:VEVENT
DTSTART;TZID=America/Indiana/Indianapolis:20240608T130000
DTEND;TZID=America/Indiana/Indianapolis:20240608T170000
DTSTAMP:20260420T073729
CREATED:20240216T033924Z
LAST-MODIFIED:20240520T163901Z
UID:10000010-1717851600-1717866000@cherrybombrox.com
SUMMARY:Password Reset will rock the Tipton\, IN OnTap Event Saturday June 8th!
DESCRIPTION:Password Reset ROCKS the Tipton\, IN OnTap Beer and Wine Festival! \nThe wildly popular ‘Password Reset’ band will be headlining the event. Fronted by local Indiana legend “Roxie\,” this Rock cover band has performed with Cheap Trick\, Joan Jett\, Poison\, Vince Neil of Motley Crue\, and many other rock icons! ‘Password Reset’ brings an energy and experience to the stage that’s truly infectious. We’re thrilled to have them perform at Tipton On Tap this year!
URL:https://cherrybombrox.com/event/password-reset-tipton-in-ontap/
LOCATION:Tipton Town Square\, 216 South Main Street\, Tipton\, IN\, 46072\, United States
CATEGORIES:Password Reset
ATTACH;FMTTYPE=image/png:https://cherrybombrox.com/wp-content/uploads/2024/02/f2bdcdfe-c7a5-4da0-9e18-76d70b2c70e7.png
END:VEVENT
END:VCALENDAR