BEGIN:VCALENDAR
VERSION:2.0
PRODID:-//CherryBomb - ECPv6.15.20//NONSGML v1.0//EN
CALSCALE:GREGORIAN
METHOD:PUBLISH
X-ORIGINAL-URL:https://cherrybombrox.com
X-WR-CALDESC:Events for CherryBomb
REFRESH-INTERVAL;VALUE=DURATION:PT1H
X-Robots-Tag:noindex
X-PUBLISHED-TTL:PT1H
BEGIN:VTIMEZONE
TZID:America/Indiana/Indianapolis
BEGIN:DAYLIGHT
TZOFFSETFROM:-0500
TZOFFSETTO:-0400
TZNAME:EDT
DTSTART:20230312T070000
END:DAYLIGHT
BEGIN:STANDARD
TZOFFSETFROM:-0400
TZOFFSETTO:-0500
TZNAME:EST
DTSTART:20231105T060000
END:STANDARD
BEGIN:DAYLIGHT
TZOFFSETFROM:-0500
TZOFFSETTO:-0400
TZNAME:EDT
DTSTART:20240310T070000
END:DAYLIGHT
BEGIN:STANDARD
TZOFFSETFROM:-0400
TZOFFSETTO:-0500
TZNAME:EST
DTSTART:20241103T060000
END:STANDARD
BEGIN:DAYLIGHT
TZOFFSETFROM:-0500
TZOFFSETTO:-0400
TZNAME:EDT
DTSTART:20250309T070000
END:DAYLIGHT
BEGIN:STANDARD
TZOFFSETFROM:-0400
TZOFFSETTO:-0500
TZNAME:EST
DTSTART:20251102T060000
END:STANDARD
END:VTIMEZONE
BEGIN:VEVENT
DTSTART;TZID=America/Indiana/Indianapolis:20240503T190000
DTEND;TZID=America/Indiana/Indianapolis:20240503T230000
DTSTAMP:20260420T060425
CREATED:20240501T024144Z
LAST-MODIFIED:20240501T024620Z
UID:10000015-1714762800-1714777200@cherrybombrox.com
SUMMARY:Password Reset will rock the Vinyl Music Hall in Pensacola FL Fri May 3rd\, doors at 7 p.m.
DESCRIPTION:Password Reset and the killer ACDC tribute band\, Thunderstruck\, will rock the Vinyl Music Hall in Pensacola FL Fri May 3rd\, doors at 7 p.m.  Password Reset will kick off the concert at 8 p.m. CST.  See you there! \n \n 
URL:https://cherrybombrox.com/event/password-reset-will-rock-the-vinyl-music-hall-in-pensacola-fl-fri-may-3rd-doors-at-7-p-m/
LOCATION:Vinyl Music Hall\, 2 South Palafox\, Pensacola\, FL\, 32502\, United States
CATEGORIES:Password Reset
ORGANIZER;CN="Crystal Sound Stage Productions":MAILTO:failaf@hotmail.com
END:VEVENT
END:VCALENDAR