BEGIN:VCALENDAR
VERSION:2.0
PRODID:-//CherryBomb - ECPv6.15.20//NONSGML v1.0//EN
CALSCALE:GREGORIAN
METHOD:PUBLISH
X-WR-CALNAME:CherryBomb
X-ORIGINAL-URL:https://cherrybombrox.com
X-WR-CALDESC:Events for CherryBomb
REFRESH-INTERVAL;VALUE=DURATION:PT1H
X-Robots-Tag:noindex
X-PUBLISHED-TTL:PT1H
BEGIN:VTIMEZONE
TZID:America/Indiana/Indianapolis
BEGIN:DAYLIGHT
TZOFFSETFROM:-0500
TZOFFSETTO:-0400
TZNAME:EDT
DTSTART:20230312T070000
END:DAYLIGHT
BEGIN:STANDARD
TZOFFSETFROM:-0400
TZOFFSETTO:-0500
TZNAME:EST
DTSTART:20231105T060000
END:STANDARD
BEGIN:DAYLIGHT
TZOFFSETFROM:-0500
TZOFFSETTO:-0400
TZNAME:EDT
DTSTART:20240310T070000
END:DAYLIGHT
BEGIN:STANDARD
TZOFFSETFROM:-0400
TZOFFSETTO:-0500
TZNAME:EST
DTSTART:20241103T060000
END:STANDARD
BEGIN:DAYLIGHT
TZOFFSETFROM:-0500
TZOFFSETTO:-0400
TZNAME:EDT
DTSTART:20250309T070000
END:DAYLIGHT
BEGIN:STANDARD
TZOFFSETFROM:-0400
TZOFFSETTO:-0500
TZNAME:EST
DTSTART:20251102T060000
END:STANDARD
END:VTIMEZONE
BEGIN:VEVENT
DTSTART;TZID=America/Indiana/Indianapolis:20240914T180000
DTEND;TZID=America/Indiana/Indianapolis:20240914T210000
DTSTAMP:20260420T055907
CREATED:20240519T214044Z
LAST-MODIFIED:20240520T162024Z
UID:10000016-1726336800-1726347600@cherrybombrox.com
SUMMARY:Password Reset will rock the 2024 Evansville IN SWIRCA Brewfest Sat Sept 14th
DESCRIPTION:PASSWORD RESET is honored to have been invited to rock this awesome brewfest in Evansville\, IN. Event proceeds benefit SWIRCA & More\, a non-profit organization dedicated to helping individuals maintain their independence and dignity in the face of disabilities and aging.
URL:https://cherrybombrox.com/event/password-reset-will-rock-the-2024-evansville-in-swirca-brewfest-sat-sept-14th/
LOCATION:WEST SIDE LIBRARY Park\, 2000 W FRANKLIN STREET\, Evansville\, IN\, 47712
CATEGORIES:Password Reset
ATTACH;FMTTYPE=image/jpeg:https://cherrybombrox.com/wp-content/uploads/2024/05/SWIRCA.jpg
ORGANIZER;CN="Crystal Sound Stage Productions":MAILTO:failaf@hotmail.com
END:VEVENT
END:VCALENDAR