BEGIN:VCALENDAR
VERSION:2.0
PRODID:-//CherryBomb - ECPv6.15.20//NONSGML v1.0//EN
CALSCALE:GREGORIAN
METHOD:PUBLISH
X-WR-CALNAME:CherryBomb
X-ORIGINAL-URL:https://cherrybombrox.com
X-WR-CALDESC:Events for CherryBomb
REFRESH-INTERVAL;VALUE=DURATION:PT1H
X-Robots-Tag:noindex
X-PUBLISHED-TTL:PT1H
BEGIN:VTIMEZONE
TZID:America/Indiana/Indianapolis
BEGIN:DAYLIGHT
TZOFFSETFROM:-0500
TZOFFSETTO:-0400
TZNAME:EDT
DTSTART:20230312T070000
END:DAYLIGHT
BEGIN:STANDARD
TZOFFSETFROM:-0400
TZOFFSETTO:-0500
TZNAME:EST
DTSTART:20231105T060000
END:STANDARD
BEGIN:DAYLIGHT
TZOFFSETFROM:-0500
TZOFFSETTO:-0400
TZNAME:EDT
DTSTART:20240310T070000
END:DAYLIGHT
BEGIN:STANDARD
TZOFFSETFROM:-0400
TZOFFSETTO:-0500
TZNAME:EST
DTSTART:20241103T060000
END:STANDARD
BEGIN:DAYLIGHT
TZOFFSETFROM:-0500
TZOFFSETTO:-0400
TZNAME:EDT
DTSTART:20250309T070000
END:DAYLIGHT
BEGIN:STANDARD
TZOFFSETFROM:-0400
TZOFFSETTO:-0500
TZNAME:EST
DTSTART:20251102T060000
END:STANDARD
END:VTIMEZONE
BEGIN:VEVENT
DTSTART;TZID=America/Indiana/Indianapolis:20241227T203000
DTEND;TZID=America/Indiana/Indianapolis:20241227T230000
DTSTAMP:20260420T043455
CREATED:20240412T014117Z
LAST-MODIFIED:20240520T162248Z
UID:10000013-1735331400-1735340400@cherrybombrox.com
SUMMARY:Quiet Riot and PASSWORD RESET will rock the Whisky a GoGo in LA\, CA Fri night Dec 27th\, get your discounted txs here!
DESCRIPTION:This rock concert will kick ass!  Rudy Sarzo and Quiet Riot will headline this concert!  PASSWORD RESET is honored to rock with Quiet Riot!  Roxie\, lead singer for PASSWORD RESET\, is a life long fan of Rudy Sarzo and Quiet Riot.  Hope you can make this rock concert!  Get your tickets at the link below.  You will not be charged any processing fees for your tickets!  https://www.eventbrite.com/e/quiet-riot-password-reset-at-whisky-a-gogo-get-discounted-tickets-here-tickets-881632254807?aff=oddtdtcreator
URL:https://cherrybombrox.com/event/quiet-riot-and-password-reset-will-rock-the-whisky-a-gogo-in-la-ca-fri-night-dec-27th-get-your-discounted-txs-here/
LOCATION:Whisky a GoGo\, 8901 Sunset Blvd\, West Hollywood\, 90069\, United States
CATEGORIES:Password Reset
ATTACH;FMTTYPE=image/webp:https://cherrybombrox.com/wp-content/uploads/2024/04/Whisky-a-Go-Go-logo-sm.webp
END:VEVENT
END:VCALENDAR