BEGIN:VCALENDAR
VERSION:2.0
PRODID:-//CherryBomb - ECPv6.15.20//NONSGML v1.0//EN
CALSCALE:GREGORIAN
METHOD:PUBLISH
X-ORIGINAL-URL:https://cherrybombrox.com
X-WR-CALDESC:Events for CherryBomb
REFRESH-INTERVAL;VALUE=DURATION:PT1H
X-Robots-Tag:noindex
X-PUBLISHED-TTL:PT1H
BEGIN:VTIMEZONE
TZID:America/Indiana/Indianapolis
BEGIN:DAYLIGHT
TZOFFSETFROM:-0500
TZOFFSETTO:-0400
TZNAME:EDT
DTSTART:20230312T070000
END:DAYLIGHT
BEGIN:STANDARD
TZOFFSETFROM:-0400
TZOFFSETTO:-0500
TZNAME:EST
DTSTART:20231105T060000
END:STANDARD
BEGIN:DAYLIGHT
TZOFFSETFROM:-0500
TZOFFSETTO:-0400
TZNAME:EDT
DTSTART:20240310T070000
END:DAYLIGHT
BEGIN:STANDARD
TZOFFSETFROM:-0400
TZOFFSETTO:-0500
TZNAME:EST
DTSTART:20241103T060000
END:STANDARD
BEGIN:DAYLIGHT
TZOFFSETFROM:-0500
TZOFFSETTO:-0400
TZNAME:EDT
DTSTART:20250309T070000
END:DAYLIGHT
BEGIN:STANDARD
TZOFFSETFROM:-0400
TZOFFSETTO:-0500
TZNAME:EST
DTSTART:20251102T060000
END:STANDARD
END:VTIMEZONE
BEGIN:VEVENT
DTSTART;TZID=America/Indiana/Indianapolis:20240914T114500
DTEND;TZID=America/Indiana/Indianapolis:20240914T134500
DTSTAMP:20260420T060759
CREATED:20240820T205846Z
LAST-MODIFIED:20240820T205846Z
UID:10000023-1726314300-1726321500@cherrybombrox.com
SUMMARY:PASSWORD RESET will rock MUTT STRUT 2024 in Indianapolis IN Sat Sept 14th 11:45 a.m. - 1:45 p.m.
DESCRIPTION:PASSWORD RESET is honored to have been asked to perform at this years’ MUTT STRUT for Indyhumane Presented by Hensley Legal Group\, PC!  Register here: https://muttstrut.indyhumane.org/event/mutt-strut-5k-race-and-fun-run/e598715
URL:https://cherrybombrox.com/event/password-reset-will-rock-mutt-strut-2024-in-indianapolis-in-sat-sept-14th-1145-a-m-145-p-m/
LOCATION:White River State Park\, 801 W Washington St\, Indianapolis\, 46204\, United States
CATEGORIES:Password Reset
ATTACH;FMTTYPE=image/png:https://cherrybombrox.com/wp-content/uploads/2024/08/MUTT.png
END:VEVENT
END:VCALENDAR